BEGIN:VCALENDAR
VERSION:2.0
PRODID:Events Booking
BEGIN:VEVENT
UID:69e885b3b36ec
SUMMARY:New Member Orientation
DESCRIPTION:As a new PMI Mile Hi Member\, we would like to welcome you to t
 he chapter! Please join us for an evening of great conversations and valua
 ble information about being a PMI Mile Hi member.
LOCATION:1471 S Parker Rd\, Denver\, CO 80231\, USA
DTSTART:20251119T020000Z
DTEND:20251119T040000Z
DTSTAMP:20250102T214051Z
ORGANIZER;CN=PMI Mile Hi Chapter:MAILTO:marketing.sym@pmimilehi.org
GEO:39.689902;-104.891315
X-APPLE-STRUCTURED-LOCATION;VALUE=URI;X-ADDRESS=1471 S Parker Rd\, Denver\,
  CO 80231\, USA;X-APPLE-RADIUS=72;X-TITLE=Eloise May Library:39.689902;-10
 4.891315
END:VEVENT
END:VCALENDAR