BEGIN:VCALENDAR
VERSION:2.0
PRODID:Events Booking
BEGIN:VEVENT
UID:69e8a63f68c09
SUMMARY:Job Seekers Group (2)
DESCRIPTION:Hybrid event: in-person and hosted on teams!&nbsp\;
 \"Leaving
  Breadcrumbs on LinkedIn: Visibility That Works While You’re Job Hunting
 \"
 You’ve updated your LinkedIn profile. You’re attending networking
  events. You’re having solid conversations. Now what?
 Shawn Teasley\, 
 Owner and Strategist at Social Tonic\, will explore how job seekers can us
 e LinkedIn after networking to stay visible\, reinforce connections\, and 
 leave intentional “breadcrumbs” that help hiring managers and recruite
 rs remember you.
 This session focuses on writing posts that feel true to
  your voice\, using LinkedIn as a light-touch visibility tool (not a time-
 suck)\, and understanding how small\, thoughtful updates can support your 
 job search without feeling performative or exhausting.
 She’ll also tal
 k about healthy boundaries with LinkedIn and how to engage with purpose in
 stead of scrolling endlessly. The session will wrap with open Q&amp\;A. Br
 ing your real questions about posting\, engagement\, etiquette\, and visib
 ility.
 Location:&nbsp\;Koelbel Library&nbsp\;
 5955 S Holly St\, Centen
 nial\, CO 80121
 Arrive 10:15am&nbsp\;
 Networking 11:45-12pm
 &nbsp\;@
 tylerpollesch@shawnteasley@DanJackson@AustinPlummer@PMIMetropolitanStLouis
 Chapter@mollyliepins@Erinhallstrom@Arthurlarsen@bhuvaneswarivasudevan
 &n
 bsp\;
DTSTART:20260505T161500Z
DTEND:20260505T180000Z
DTSTAMP:20251108T091647Z
ORGANIZER;CN=PMI Mile Hi Chapter:MAILTO:marketing.sym@pmimilehi.org
END:VEVENT
END:VCALENDAR