BEGIN:VCALENDAR
VERSION:2.0
PRODID:Events Booking
BEGIN:VEVENT
UID:69e8f8f288b8a
SUMMARY:Rocky Mountain Project Management Symposium 
DESCRIPTION:The Rocky Mountain Project Management Symposium is an annual on
 e-day event that draws over 700 project managers from diverse industries.&
 nbsp\; &nbsp\;Registrations are done through a separate portal.
LOCATION:6700 N Gaylord Rockies Blvd\, Aurora\, CO 80019\, USA
DTSTART:20260403T130000Z
DTEND:20260403T223000Z
DTSTAMP:20250406T062758Z
ORGANIZER;CN=PMI Mile Hi Chapter:MAILTO:marketing.sym@pmimilehi.org
GEO:39.815675;-104.750636
X-APPLE-STRUCTURED-LOCATION;VALUE=URI;X-ADDRESS=6700 N Gaylord Rockies Blvd
 \, Aurora\, CO 80019\, USA;X-APPLE-RADIUS=72;X-TITLE=Gaylord Rockies Resor
 t and Convention Center:39.815675;-104.750636
END:VEVENT
END:VCALENDAR