BEGIN:VCALENDAR
VERSION:2.0
PRODID:Events Booking
BEGIN:VEVENT
UID:69eb643545a75
SUMMARY:[VIRTUAL] PM Pulse Chapter Meeting (MAY 2026)
DESCRIPTION:Welcome to the 2026 PMI Mile Hi PM Pulse Meeting! Meeting featu
 res chapter updates and&nbsp\;expert-led professional development.
DTSTART:20260515T001500Z
DTEND:20260515T013000Z
DTSTAMP:20260204T231243Z
ORGANIZER;CN=PMI Mile Hi Chapter:MAILTO:marketing.sym@pmimilehi.org
END:VEVENT
END:VCALENDAR