BEGIN:VCALENDAR
VERSION:2.0
PRODID:Events Booking
BEGIN:VEVENT
UID:69e8b360cf4e9
SUMMARY:Women Connect: Earth Day 2026 at York St Botanical Gardens
DESCRIPTION:Come join other Women Connect members on Earth Day for coffee a
 nd a walk around Cheeseman Park. (Note: this event will no longer be held 
 at the Botanical Gardens)
LOCATION:1085 York St. Denver\, CO 80206
DTSTART:20260422T150000Z
DTEND:20260422T170000Z
DTSTAMP:20250328T043040Z
ORGANIZER;CN=PMI Mile Hi Chapter:MAILTO:marketing.sym@pmimilehi.org
GEO:39.733434;-104.960172
X-APPLE-STRUCTURED-LOCATION;VALUE=URI;X-ADDRESS=1085 York St. Denver\, CO 8
 0206;X-APPLE-RADIUS=72;X-TITLE=Copper Door Coffee Roasters:39.733434;-104.
 960172
END:VEVENT
END:VCALENDAR