BEGIN:VCALENDAR
VERSION:2.0
PRODID:Events Booking
BEGIN:VEVENT
UID:69e8b33753150
SUMMARY:Women Connect [Virtual]: \"Fueling Your Ambition: Resources\, Barri
 ers & Real Conversation\"
DESCRIPTION:Join Women Connect to hear from our speaker Valerie Carmel and 
 enjoy an evening of conversation with other women in project management.
DTSTART:20260507T233000Z
DTEND:20260508T010000Z
DTSTAMP:20250317T044634Z
ORGANIZER;CN=PMI Mile Hi Chapter:MAILTO:marketing.sym@pmimilehi.org
END:VEVENT
END:VCALENDAR