BEGIN:VCALENDAR
VERSION:2.0
PRODID:Events Booking
BEGIN:VEVENT
UID:69e8b4c326ffe
SUMMARY:Women Connect: May Coffee & Walk
DESCRIPTION:Come join other Women Connect members for coffee\, conversation
 \, and a walk around the Milavec Reservoir
LOCATION:8134 County Rd 13\, Firestone\, CO 80520\, USA
DTSTART:20260508T150000Z
DTEND:20260508T170000Z
DTSTAMP:20260119T120414Z
ORGANIZER;CN=PMI Mile Hi Chapter:MAILTO:marketing.sym@pmimilehi.org
GEO:40.118889;-104.939829
X-APPLE-STRUCTURED-LOCATION;VALUE=URI;X-ADDRESS=8134 County Rd 13\, Firesto
 ne\, CO 80520\, USA;X-APPLE-RADIUS=72;X-TITLE=Starbucks Longmont:40.118889
 ;-104.939829
END:VEVENT
END:VCALENDAR